BEGIN:VCALENDAR
VERSION:2.0
PRODID:-//Sounds Like Sydney - ECPv6.15.20//NONSGML v1.0//EN
CALSCALE:GREGORIAN
METHOD:PUBLISH
X-WR-CALNAME:Sounds Like Sydney
X-ORIGINAL-URL:http://www.soundslikesydney.com.au
X-WR-CALDESC:Events for Sounds Like Sydney
REFRESH-INTERVAL;VALUE=DURATION:PT1H
X-Robots-Tag:noindex
X-PUBLISHED-TTL:PT1H
BEGIN:VTIMEZONE
TZID:Australia/Sydney
BEGIN:STANDARD
TZOFFSETFROM:+1100
TZOFFSETTO:+1000
TZNAME:AEST
DTSTART:20240406T160000
END:STANDARD
BEGIN:DAYLIGHT
TZOFFSETFROM:+1000
TZOFFSETTO:+1100
TZNAME:AEDT
DTSTART:20241005T160000
END:DAYLIGHT
BEGIN:STANDARD
TZOFFSETFROM:+1100
TZOFFSETTO:+1000
TZNAME:AEST
DTSTART:20250405T160000
END:STANDARD
BEGIN:DAYLIGHT
TZOFFSETFROM:+1000
TZOFFSETTO:+1100
TZNAME:AEDT
DTSTART:20251004T160000
END:DAYLIGHT
BEGIN:STANDARD
TZOFFSETFROM:+1100
TZOFFSETTO:+1000
TZNAME:AEST
DTSTART:20260404T160000
END:STANDARD
BEGIN:DAYLIGHT
TZOFFSETFROM:+1000
TZOFFSETTO:+1100
TZNAME:AEDT
DTSTART:20261003T160000
END:DAYLIGHT
END:VTIMEZONE
BEGIN:VEVENT
DTSTART;TZID=Australia/Sydney:20250620T190000
DTEND;TZID=Australia/Sydney:20250628T150000
DTSTAMP:20260420T103336
CREATED:20250224T013340Z
LAST-MODIFIED:20250224T013340Z
UID:32704-1750446000-1751122800@www.soundslikesydney.com.au
SUMMARY:Sydney Chamber Opera World Premiere of Muhly Opera
DESCRIPTION:Sydney Chamber Opera presents the world premiere of Aphrodite by US composer Nico Muhly and Australian playwright Laura Lethlean. \nThis biting\, contemporary opera channels the Aphrodite myth to ask: is our focus on beauty so preoccupying that we remove ourselves from the human connection of attraction? Is it Aphrodite’s fault that the beauty industry has never been more powerful? \nDirected by Alexander Berlage (American Psycho)\, this world premiere features the extraordinary voices of Jessica O’Donoghue (Gilgamesh) and Puerto Rican soprano Meechot Marrero\, performed in collaboration with Omega Ensemble. \nDuration: Approximately 70 mins without interval \n  \n 
URL:http://www.soundslikesydney.com.au/event/sydney-chamber-opera-world-premiere-of-muhly-opera/
LOCATION:Carriageworks\, 245 Wilson Street\, Eveleigh\, NSW\, 2015\, Australia
ATTACH;FMTTYPE=image/png:http://www.soundslikesydney.com.au/wp-content/uploads/2025/02/Screenshot-2025-02-24-123250.png
END:VEVENT
END:VCALENDAR