BEGIN:VCALENDAR
VERSION:2.0
PRODID:-//Sounds Like Sydney - ECPv6.15.20//NONSGML v1.0//EN
CALSCALE:GREGORIAN
METHOD:PUBLISH
X-WR-CALNAME:Sounds Like Sydney
X-ORIGINAL-URL:http://www.soundslikesydney.com.au
X-WR-CALDESC:Events for Sounds Like Sydney
REFRESH-INTERVAL;VALUE=DURATION:PT1H
X-Robots-Tag:noindex
X-PUBLISHED-TTL:PT1H
BEGIN:VTIMEZONE
TZID:Australia/Sydney
BEGIN:STANDARD
TZOFFSETFROM:+1100
TZOFFSETTO:+1000
TZNAME:AEST
DTSTART:20240406T160000
END:STANDARD
BEGIN:DAYLIGHT
TZOFFSETFROM:+1000
TZOFFSETTO:+1100
TZNAME:AEDT
DTSTART:20241005T160000
END:DAYLIGHT
BEGIN:STANDARD
TZOFFSETFROM:+1100
TZOFFSETTO:+1000
TZNAME:AEST
DTSTART:20250405T160000
END:STANDARD
BEGIN:DAYLIGHT
TZOFFSETFROM:+1000
TZOFFSETTO:+1100
TZNAME:AEDT
DTSTART:20251004T160000
END:DAYLIGHT
BEGIN:STANDARD
TZOFFSETFROM:+1100
TZOFFSETTO:+1000
TZNAME:AEST
DTSTART:20260404T160000
END:STANDARD
BEGIN:DAYLIGHT
TZOFFSETFROM:+1000
TZOFFSETTO:+1100
TZNAME:AEDT
DTSTART:20261003T160000
END:DAYLIGHT
END:VTIMEZONE
BEGIN:VEVENT
DTSTART;TZID=Australia/Sydney:20250705T150000
DTEND;TZID=Australia/Sydney:20250705T150000
DTSTAMP:20260423T232334
CREATED:20250527T022231Z
LAST-MODIFIED:20250527T022231Z
UID:32899-1751727600-1751727600@www.soundslikesydney.com.au
SUMMARY:Sydney Chamber Choir 50th Anniversary Gala
DESCRIPTION:The Sydney Chamber Choir conducted by its Artistic Director Sam Allchurch celebrates 50 years of music making with the beauty and the thrill of new music in this gala concert. \nThe choir will sing the world premiere performances of five specially commissioned pieces by five of the most exciting compositional talents in the country\, each exploring a different facet of what ‘love’ can mean. \nAfter that\, experience the emotional power of Paul Stanhope’s groundbreaking and award-winning re-imagining of the Requiem mass\, its ancient texts enriched with contemporary insights on love\, loss\, life and hope from poets including Emily Dickinson and Oodgeroo Noonuccal. \nCommissioning music has been at the heart of the Sydney Chamber Choir’s music making since its earliest years\, and it proud to be creating and sharing new masterpieces – a gift to its fans on its 50th birthday! \nArtists: Sydney Chamber Choir/ Sam Allchurch | Conductor/ Brooke Window | Soprano/ Richard Butler | Tenor \nThe program: Luke Byrne Song*/ Anne Cawrse The Greatest of These*/ Meta Cohen Meteora*/ Nardi Simpson Dharriwa – Narran Lakes Dreaming*/ Paul Stanhope We might be fifty*/ Paul Stanhope Requiem \n*World Premiere \nTickets  \nor call CRH Box Office 8256 2222 \n 
URL:http://www.soundslikesydney.com.au/event/sydney-chamber-choir-50th-anniversary-gala/
LOCATION:City Recital Hall\, 2 Angel Place\, Sydney\, NSW\, 2000\, Australia
ATTACH;FMTTYPE=image/png:http://www.soundslikesydney.com.au/wp-content/uploads/2025/05/Screenshot-2025-05-27-121503.png
END:VEVENT
END:VCALENDAR